BEGIN:VCALENDAR
VERSION:2.0
PRODID:-//Laois County Childcare Committee - ECPv6.15.18//NONSGML v1.0//EN
CALSCALE:GREGORIAN
METHOD:PUBLISH
X-ORIGINAL-URL:https://www.laoischildcare.ie
X-WR-CALDESC:Events for Laois County Childcare Committee
REFRESH-INTERVAL;VALUE=DURATION:PT1H
X-Robots-Tag:noindex
X-PUBLISHED-TTL:PT1H
BEGIN:VTIMEZONE
TZID:Europe/Dublin
BEGIN:STANDARD
TZOFFSETFROM:+0000
TZOFFSETTO:+0100
TZNAME:IST
DTSTART:20250330T010000
END:STANDARD
BEGIN:DAYLIGHT
TZOFFSETFROM:+0100
TZOFFSETTO:+0000
TZNAME:GMT
DTSTART:20251026T010000
END:DAYLIGHT
BEGIN:STANDARD
TZOFFSETFROM:+0000
TZOFFSETTO:+0100
TZNAME:IST
DTSTART:20260329T010000
END:STANDARD
BEGIN:DAYLIGHT
TZOFFSETFROM:+0100
TZOFFSETTO:+0000
TZNAME:GMT
DTSTART:20261025T010000
END:DAYLIGHT
BEGIN:STANDARD
TZOFFSETFROM:+0000
TZOFFSETTO:+0100
TZNAME:IST
DTSTART:20270328T010000
END:STANDARD
BEGIN:DAYLIGHT
TZOFFSETFROM:+0100
TZOFFSETTO:+0000
TZNAME:GMT
DTSTART:20271031T010000
END:DAYLIGHT
END:VTIMEZONE
BEGIN:VEVENT
DTSTART;TZID=Europe/Dublin:20260112T153000
DTEND;TZID=Europe/Dublin:20260112T163000
DTSTAMP:20260421T203507
CREATED:20260105T100254Z
LAST-MODIFIED:20260304T114024Z
UID:8763-1768231800-1768235400@www.laoischildcare.ie
SUMMARY:Communities of Professional Practice – Bia Blasta
DESCRIPTION:This workshop is only For Laois ELC’s who are participating in Bia Blasta. \n Date: Monday 12th January 2026     Time: 3.30pm – 4.30pm \nVenue: Online Via Microsoft Teams
URL:https://www.laoischildcare.ie/event/communities-of-professional-practice-bia-blasta/
LOCATION:MS Teams
ATTACH;FMTTYPE=image/png:https://www.laoischildcare.ie/wp-content/uploads/2026/01/Equal-Start.png
ORGANIZER;CN="LCCC - SB":MAILTO:s.brophy@laoischildcare.ie
END:VEVENT
END:VCALENDAR