BEGIN:VCALENDAR
VERSION:2.0
PRODID:-//Laois County Childcare Committee - ECPv6.15.18//NONSGML v1.0//EN
CALSCALE:GREGORIAN
METHOD:PUBLISH
X-ORIGINAL-URL:https://www.laoischildcare.ie
X-WR-CALDESC:Events for Laois County Childcare Committee
REFRESH-INTERVAL;VALUE=DURATION:PT1H
X-Robots-Tag:noindex
X-PUBLISHED-TTL:PT1H
BEGIN:VTIMEZONE
TZID:Europe/Dublin
BEGIN:STANDARD
TZOFFSETFROM:+0000
TZOFFSETTO:+0100
TZNAME:IST
DTSTART:20250330T010000
END:STANDARD
BEGIN:DAYLIGHT
TZOFFSETFROM:+0100
TZOFFSETTO:+0000
TZNAME:GMT
DTSTART:20251026T010000
END:DAYLIGHT
BEGIN:STANDARD
TZOFFSETFROM:+0000
TZOFFSETTO:+0100
TZNAME:IST
DTSTART:20260329T010000
END:STANDARD
BEGIN:DAYLIGHT
TZOFFSETFROM:+0100
TZOFFSETTO:+0000
TZNAME:GMT
DTSTART:20261025T010000
END:DAYLIGHT
BEGIN:STANDARD
TZOFFSETFROM:+0000
TZOFFSETTO:+0100
TZNAME:IST
DTSTART:20270328T010000
END:STANDARD
BEGIN:DAYLIGHT
TZOFFSETFROM:+0100
TZOFFSETTO:+0000
TZNAME:GMT
DTSTART:20271031T010000
END:DAYLIGHT
END:VTIMEZONE
BEGIN:VEVENT
DTSTART;TZID=Europe/Dublin:20260205T190000
DTEND;TZID=Europe/Dublin:20260205T210000
DTSTAMP:20260421T203924
CREATED:20260105T102930Z
LAST-MODIFIED:20260105T105544Z
UID:8772-1770318000-1770325200@www.laoischildcare.ie
SUMMARY:Understanding & Responding to Big Behaviours Workshop
DESCRIPTION:This workshop is open to all Childcare Services in Laois. If you would like to book a place on this\, please email Sinead at s.brophy@laoischildcare.ie \nDate: Thursday 5th February 2026     Time: 7pm- 9pm \nVenue: Portlaoise Parish Centre
URL:https://www.laoischildcare.ie/event/understanding-responding-to-big-behaviours-workshop/
LOCATION:Portlaoise Parish Centre\, Stradbally Rd\, Moneyballytyrrell\,\, Portlaoise\, Co. Laois\, Ireland
ATTACH;FMTTYPE=image/jpeg:https://www.laoischildcare.ie/wp-content/uploads/2026/01/Workshop.jpg
ORGANIZER;CN="LCCC - SB":MAILTO:s.brophy@laoischildcare.ie
END:VEVENT
BEGIN:VEVENT
DTSTART;TZID=Europe/Dublin:20260217T190000
DTEND;TZID=Europe/Dublin:20260217T203000
DTSTAMP:20260421T203924
CREATED:20260105T103711Z
LAST-MODIFIED:20260105T105531Z
UID:8776-1771354800-1771360200@www.laoischildcare.ie
SUMMARY:Communities of Professional Practice – AIM
DESCRIPTION:This workshop is open to all Childcare Services in Laois. If you would like to book a place on this\, please email Sinead at s.brophy@laoischildcare.ie \nDate: Tuesday 17th February 2026     Time: 7pm- 8.30pm \nVenue: Portlaoise Parish Centre
URL:https://www.laoischildcare.ie/event/communities-of-professional-practice-aim/
LOCATION:Portlaoise Parish Centre\, Stradbally Rd\, Moneyballytyrrell\,\, Portlaoise\, Co. Laois\, Ireland
ATTACH;FMTTYPE=image/jpeg:https://www.laoischildcare.ie/wp-content/uploads/2020/05/AIM.jpg
ORGANIZER;CN="LCCC - SB":MAILTO:s.brophy@laoischildcare.ie
END:VEVENT
END:VCALENDAR